BEGIN:VCALENDAR
VERSION:2.0
PRODID:spatie/icalendar-generator
DESCRIPTION:Events from Saint James Lutheran Church
X-WR-CALDESC:Events from Saint James Lutheran Church
REFRESH-INTERVAL;VALUE=DURATION:PT1440M
X-PUBLISHED-TTL:PT1440M
BEGIN:VTIMEZONE
TZID:America/Winnipeg
BEGIN:STANDARD
DTSTART:20241103T020000Z
TZOFFSETFROM:-0500
TZOFFSETTO:-0600
END:STANDARD
BEGIN:DAYLIGHT
DTSTART:20250309T020000Z
TZOFFSETFROM:-0600
TZOFFSETTO:-0500
END:DAYLIGHT
END:VTIMEZONE
BEGIN:VTIMEZONE
TZID:UTC
BEGIN:STANDARD
DTSTART:20250727T193658Z
TZOFFSETFROM:+0000
TZOFFSETTO:+0000
END:STANDARD
END:VTIMEZONE
BEGIN:VEVENT
UID:493-5
DTSTAMP:20260423T193658Z
SUMMARY:Bible Study
LOCATION:
ORGANIZER;CN=admin:MAILTO:info@littlewebpages.net
RRULE:FREQ=WEEKLY;COUNT=0
DTSTART;TZID=America/Winnipeg:20250126T090000
DTEND;TZID=America/Winnipeg:20250126T100000
X-ALT-DESC;FMTTYPE=TEXT/HTML:
CATEGORIES:General
URL;VALUE=URI:https://www.saintjameslutheran.ca/mc-events/bible-study/?mc_i
 d=493
METHOD:PUBLISH
END:VEVENT
END:VCALENDAR