BEGIN:VCALENDAR
VERSION:2.0
PRODID:spatie/icalendar-generator
DESCRIPTION:Events from Saint James Lutheran Church
X-WR-CALDESC:Events from Saint James Lutheran Church
REFRESH-INTERVAL;VALUE=DURATION:PT1440M
X-PUBLISHED-TTL:PT1440M
BEGIN:VTIMEZONE
TZID:America/Winnipeg
BEGIN:STANDARD
DTSTART:20251102T020000Z
TZOFFSETFROM:-0500
TZOFFSETTO:-0600
END:STANDARD
BEGIN:DAYLIGHT
DTSTART:20260308T020000Z
TZOFFSETFROM:-0600
TZOFFSETTO:-0500
END:DAYLIGHT
END:VTIMEZONE
BEGIN:VTIMEZONE
TZID:UTC
BEGIN:STANDARD
DTSTART:20250730T042859Z
TZOFFSETFROM:+0000
TZOFFSETTO:+0000
END:STANDARD
END:VTIMEZONE
BEGIN:VEVENT
UID:1572-37
DTSTAMP:20260426T042859Z
SUMMARY:Pauline In Office
LOCATION:
ORGANIZER;CN=Nathan Friesen:MAILTO:nathanamfriesen@gmail.com
RRULE:FREQ=WEEKLY;UNTIL=20261217T000000Z
DTSTART;TZID=America/Winnipeg;VALUE=DATE:20260402
DTEND;TZID=America/Winnipeg;VALUE=DATE:20260403
X-ALT-DESC;FMTTYPE=TEXT/HTML:
CATEGORIES:General
URL;VALUE=URI:https://www.saintjameslutheran.ca/mc-events/pauline-in-office
 -2/?mc_id=1572
METHOD:PUBLISH
END:VEVENT
END:VCALENDAR